BEGIN:VCALENDAR
VERSION:2.0
PRODID:-//Cantabria Circular - ECPv6.15.12.2//NONSGML v1.0//EN
CALSCALE:GREGORIAN
METHOD:PUBLISH
X-ORIGINAL-URL:https://cantabriacircular.com
X-WR-CALDESC:Eventos para Cantabria Circular
REFRESH-INTERVAL;VALUE=DURATION:PT1H
X-Robots-Tag:noindex
X-PUBLISHED-TTL:PT1H
BEGIN:VTIMEZONE
TZID:Europe/Madrid
BEGIN:DAYLIGHT
TZOFFSETFROM:+0100
TZOFFSETTO:+0200
TZNAME:CEST
DTSTART:20250330T010000
END:DAYLIGHT
BEGIN:STANDARD
TZOFFSETFROM:+0200
TZOFFSETTO:+0100
TZNAME:CET
DTSTART:20251026T010000
END:STANDARD
BEGIN:DAYLIGHT
TZOFFSETFROM:+0100
TZOFFSETTO:+0200
TZNAME:CEST
DTSTART:20260329T010000
END:DAYLIGHT
BEGIN:STANDARD
TZOFFSETFROM:+0200
TZOFFSETTO:+0100
TZNAME:CET
DTSTART:20261025T010000
END:STANDARD
BEGIN:DAYLIGHT
TZOFFSETFROM:+0100
TZOFFSETTO:+0200
TZNAME:CEST
DTSTART:20270328T010000
END:DAYLIGHT
BEGIN:STANDARD
TZOFFSETFROM:+0200
TZOFFSETTO:+0100
TZNAME:CET
DTSTART:20271031T010000
END:STANDARD
END:VTIMEZONE
BEGIN:VEVENT
DTSTART;TZID=Europe/Madrid:20260317T093000
DTEND;TZID=Europe/Madrid:20260317T123000
DTSTAMP:20260420T023529
CREATED:20260311T084516Z
LAST-MODIFIED:20260313T094006Z
UID:7822-1773739800-1773750600@cantabriacircular.com
SUMMARY:El marrón está de moda en POLANCO
DESCRIPTION:
URL:https://cantabriacircular.com/calendario/el-marron-esta-de-moda-en-polanco/
LOCATION:CC La Milagrosa\, La Cochera\, 5\, Polanco\, Cantabria\, 39313\, Spain
CATEGORIES:El marrón está de moda
ATTACH;FMTTYPE=image/jpeg:https://cantabriacircular.com/wp-content/uploads/2026/03/1080X1350px_Actividades-13abril_Polanco.jpg
END:VEVENT
BEGIN:VEVENT
DTSTART;TZID=Europe/Madrid:20260318T090000
DTEND;TZID=Europe/Madrid:20260318T150000
DTSTAMP:20260420T023529
CREATED:20260305T122537Z
LAST-MODIFIED:20260305T123011Z
UID:7801-1773824400-1773846000@cantabriacircular.com
SUMMARY:El marrón está de moda en PIÉLAGOS
DESCRIPTION:
URL:https://cantabriacircular.com/calendario/el-marron-esta-de-moda-en-pielagos/
LOCATION:CEIP Estela de Zurita\, Bº El Bardal S/N\, Zurita\, cantabria\, 39479\, Spain
CATEGORIES:El marrón está de moda
ATTACH;FMTTYPE=image/jpeg:https://cantabriacircular.com/wp-content/uploads/2026/03/1080x1350px_Actividades-18marzo_Pielagos.jpg
END:VEVENT
BEGIN:VEVENT
DTSTART;TZID=Europe/Madrid:20260319T170000
DTEND;TZID=Europe/Madrid:20260319T210000
DTSTAMP:20260420T023529
CREATED:20260318T120844Z
LAST-MODIFIED:20260318T120844Z
UID:7861-1773939600-1773954000@cantabriacircular.com
SUMMARY:El marrón está de moda en BARCENILLA
DESCRIPTION:
URL:https://cantabriacircular.com/calendario/el-marron-esta-de-moda-en-barcenilla/
LOCATION:Barcenilla\, Barcenilla de Piélagos\, Barcenilla\, Cantabria\, 39477\, Spain
CATEGORIES:El marrón está de moda
ATTACH;FMTTYPE=image/jpeg:https://cantabriacircular.com/wp-content/uploads/2026/03/1080X1350px_Actividades_2-03.jpg
END:VEVENT
BEGIN:VEVENT
DTSTART;TZID=Europe/Madrid:20260324T160000
DTEND;TZID=Europe/Madrid:20260324T200000
DTSTAMP:20260420T023529
CREATED:20260323T154520Z
LAST-MODIFIED:20260323T154520Z
UID:7932-1774368000-1774382400@cantabriacircular.com
SUMMARY:El marrón está de moda en MOLLEDO
DESCRIPTION:
URL:https://cantabriacircular.com/calendario/el-marron-esta-de-moda-en-molledo/
LOCATION:Molledo
CATEGORIES:El marrón está de moda
ATTACH;FMTTYPE=image/jpeg:https://cantabriacircular.com/wp-content/uploads/2026/03/1080x1350px_Actividades_4-03.jpg
END:VEVENT
BEGIN:VEVENT
DTSTART;TZID=Europe/Madrid:20260327T090000
DTEND;TZID=Europe/Madrid:20260327T140000
DTSTAMP:20260420T023529
CREATED:20260311T085454Z
LAST-MODIFIED:20260311T085454Z
UID:7839-1774602000-1774620000@cantabriacircular.com
SUMMARY:El marrón está de moda en PIÉLAGOS
DESCRIPTION:
URL:https://cantabriacircular.com/calendario/el-marron-esta-de-moda-en-pielagos-5/
LOCATION:CEIP Bajo Pas\, Urbanización La Mina S/N\, Arce\, Cantabria\, 39478\, Spain
CATEGORIES:El marrón está de moda
ATTACH;FMTTYPE=image/jpeg:https://cantabriacircular.com/wp-content/uploads/2026/03/1080X1350px_Actividades-27marzo_Pielagos.jpg
END:VEVENT
BEGIN:VEVENT
DTSTART;TZID=Europe/Madrid:20260329T110000
DTEND;TZID=Europe/Madrid:20260329T150000
DTSTAMP:20260420T023529
CREATED:20260320T093149Z
LAST-MODIFIED:20260320T093149Z
UID:7872-1774782000-1774796400@cantabriacircular.com
SUMMARY:El marrón está de moda en Polanco Jardines de Pereda
DESCRIPTION:
URL:https://cantabriacircular.com/calendario/el-marron-esta-de-moda-en-polanco-jardines-de-pereda/
LOCATION:Jardines de Pereda de Polanco\, Bo. la Iglesia\, Polanco\, Cantabria\, 39313
CATEGORIES:El marrón está de moda
ATTACH;FMTTYPE=image/jpeg:https://cantabriacircular.com/wp-content/uploads/2026/03/1080X1350px_Actividades_3-01.jpg
END:VEVENT
BEGIN:VEVENT
DTSTART;TZID=Europe/Madrid:20260330T100000
DTEND;TZID=Europe/Madrid:20260330T140000
DTSTAMP:20260420T023529
CREATED:20260320T095627Z
LAST-MODIFIED:20260320T095627Z
UID:7906-1774864800-1774879200@cantabriacircular.com
SUMMARY:El marrón está de moda en Renedo
DESCRIPTION:
URL:https://cantabriacircular.com/calendario/el-marron-esta-de-moda-en-renedo/
LOCATION:Parking Público Renedo de Piélagos.\, Av. Luis de la Concha\, 43\, Renedo de Piélagos\, Cantabria\, 39470
CATEGORIES:El marrón está de moda
ATTACH;FMTTYPE=image/jpeg:https://cantabriacircular.com/wp-content/uploads/2026/03/1080X1350px_Actividades_2-02.jpg
END:VEVENT
BEGIN:VEVENT
DTSTART;TZID=Europe/Madrid:20260331T090000
DTEND;TZID=Europe/Madrid:20260331T100000
DTSTAMP:20260420T023529
CREATED:20260330T072912Z
LAST-MODIFIED:20260330T072912Z
UID:7951-1774947600-1774951200@cantabriacircular.com
SUMMARY:El marrón está de moda en CASTAÑEDA
DESCRIPTION:
URL:https://cantabriacircular.com/calendario/el-marron-esta-de-moda-en-castaneda/
LOCATION:Castañeda
CATEGORIES:El marrón está de moda
ATTACH;FMTTYPE=image/jpeg:https://cantabriacircular.com/wp-content/uploads/2026/03/1080x1350px_Actividades_Castaneda2-scaled.jpg
END:VEVENT
END:VCALENDAR